BEGIN:VCALENDAR
VERSION:2.0
PRODID:-//hacksw/handcal//NONSGML v1.0//EN
BEGIN:VEVENT
SUMMARY:FD 1 BANDE R1 ABCLG
UID:cc23fafe-8001-401c-aeb1-b2512dad25c8
DTSTART:20260411T063000Z
DTEND:20260411T160000Z
LOCATION:Localisation   
CATEGORIES:Sportif
STATUS:
URL;VALUE=URI:https://billard-93-94.sportsregions.fr/evenements/2026/04/11/fd-1-bande-r1-abclg-2425599
END:VEVENT
END:VCALENDAR
